BEGIN:VCALENDAR
VERSION:2.0
PRODID:-//wp-events-plugin.com//7.2.3.1//EN
TZID:Europe/Vienna
X-WR-TIMEZONE:Europe/Vienna
BEGIN:VEVENT
UID:3@nwf-gmuend.at
DTSTART;TZID=Europe/Vienna:20260215T114500
DTEND;TZID=Europe/Vienna:20260215T163000
DTSTAMP:20260201T154148Z
URL:https://nwf-gmuend.at/events/hallenturnier-waidhofen-u11/
SUMMARY:U11 - Hallenturnier Waidhofen
DESCRIPTION:SV Sparkasse Waidhofen/Thaya
CATEGORIES:U11
LOCATION:Sporthalle Waidhofen\, Franz-Leisser-Straße 4\, Waidhofen an der 
 Thaya\, 3830\, Österreich
GEO:48.810623;15.282015
X-APPLE-STRUCTURED-LOCATION;VALUE=URI;X-ADDRESS=Franz-Leisser-Straße 4\, W
 aidhofen an der Thaya\, 3830\, Österreich;X-APPLE-RADIUS=100;X-TITLE=Spor
 thalle Waidhofen:geo:48.810623,15.282015
END:VEVENT
BEGIN:VTIMEZONE
TZID:Europe/Vienna
X-LIC-LOCATION:Europe/Vienna
BEGIN:STANDARD
DTSTART:20251026T020000
TZOFFSETFROM:+0200
TZOFFSETTO:+0100
TZNAME:CET
END:STANDARD
END:VTIMEZONE
END:VCALENDAR