BEGIN:VCALENDAR
VERSION:2.0
PRODID:-//wp-events-plugin.com//7.2.3.1//EN
TZID:Europe/Vienna
X-WR-TIMEZONE:Europe/Vienna
BEGIN:VEVENT
UID:20@nwf-gmuend.at
DTSTART;TZID=Europe/Vienna:20260423T160000
DTEND;TZID=Europe/Vienna:20260423T170000
DTSTAMP:20260311T171722Z
URL:https://nwf-gmuend.at/events/u10b-nwf-gmuend-eibenstein-scu-nondorf/
SUMMARY:U10B: NWF Gmünd-Eibenstein - SCU Nondorf
DESCRIPTION:
CATEGORIES:U10B
LOCATION:Polimac Gmünd II Arena\, Lagerstraße 71\, Gmünd\, 3950\, Öster
 reich
GEO:48.757091;14.973429
X-APPLE-STRUCTURED-LOCATION;VALUE=URI;X-ADDRESS=Lagerstraße 71\, Gmünd\, 
 3950\, Österreich;X-APPLE-RADIUS=100;X-TITLE=Polimac Gmünd II Arena:geo:
 48.757091,14.973429
END:VEVENT
BEGIN:VEVENT
UID:21@nwf-gmuend.at
DTSTART;TZID=Europe/Vienna:20260423T170000
DTEND;TZID=Europe/Vienna:20260423T180000
DTSTAMP:20260311T171756Z
URL:https://nwf-gmuend.at/events/u10a-nwf-gmuend-eibenstein-usv-gross-geru
 ngs/
SUMMARY:U10A: NWF Gmünd-Eibenstein - USV Groß Gerungs
DESCRIPTION:
CATEGORIES:U10A
LOCATION:Polimac Gmünd II Arena\, Lagerstraße 71\, Gmünd\, 3950\, Öster
 reich
GEO:48.757091;14.973429
X-APPLE-STRUCTURED-LOCATION;VALUE=URI;X-ADDRESS=Lagerstraße 71\, Gmünd\, 
 3950\, Österreich;X-APPLE-RADIUS=100;X-TITLE=Polimac Gmünd II Arena:geo:
 48.757091,14.973429
END:VEVENT
BEGIN:VEVENT
UID:51@nwf-gmuend.at
DTSTART;TZID=Europe/Vienna:20260423T180000
DTEND;TZID=Europe/Vienna:20260423T190000
DTSTAMP:20260316T215015Z
URL:https://nwf-gmuend.at/events/u12-nwf-gmuend-eibenstein-sku-nondorf/
SUMMARY:U12: NWF Gmünd-Eibenstein - SKU Nondorf
DESCRIPTION:
CATEGORIES:U12
LOCATION:Polimac Gmünd II Arena\, Lagerstraße 71\, Gmünd\, 3950\, Öster
 reich
GEO:48.757091;14.973429
X-APPLE-STRUCTURED-LOCATION;VALUE=URI;X-ADDRESS=Lagerstraße 71\, Gmünd\, 
 3950\, Österreich;X-APPLE-RADIUS=100;X-TITLE=Polimac Gmünd II Arena:geo:
 48.757091,14.973429
END:VEVENT
BEGIN:VEVENT
UID:62@nwf-gmuend.at
DTSTART;TZID=Europe/Vienna:20260425T103000
DTEND;TZID=Europe/Vienna:20260425T113000
DTSTAMP:20260316T221032Z
URL:https://nwf-gmuend.at/events/u13-ufc-rastenfeld-nwf-gmuend-eibenstein/
SUMMARY:U13: UFC Rastenfeld - NWF Gmünd-Eibenstein
DESCRIPTION:
CATEGORIES:U13
LOCATION:Sportplatz UFC Rastenfeld\, Rastenfeld 208\, Rastenfeld\, 3532\, 
 Österreich
GEO:48.575598;15.327866
X-APPLE-STRUCTURED-LOCATION;VALUE=URI;X-ADDRESS=Rastenfeld 208\, Rastenfeld
 \, 3532\, Österreich;X-APPLE-RADIUS=100;X-TITLE=Sportplatz UFC Rastenfeld
 :geo:48.575598,15.327866
END:VEVENT
BEGIN:VEVENT
UID:39@nwf-gmuend.at
DTSTART;TZID=Europe/Vienna:20260426T103000
DTEND;TZID=Europe/Vienna:20260426T113000
DTSTAMP:20260316T212823Z
URL:https://nwf-gmuend.at/events/u9-blau-usc-litschau-nwf-gmuend-eibenstei
 n/
SUMMARY:U9 blau: USC Litschau - NWF Gmünd-Eibenstein
DESCRIPTION:
CATEGORIES:U9 blau
LOCATION:Waldstadion Litschau\, Langauer Straße 10\, Litschau\, 3874\, Ös
 terreich
GEO:48.943096;15.033337
X-APPLE-STRUCTURED-LOCATION;VALUE=URI;X-ADDRESS=Langauer Straße 10\, Litsc
 hau\, 3874\, Österreich;X-APPLE-RADIUS=100;X-TITLE=Waldstadion Litschau:g
 eo:48.943096,15.033337
END:VEVENT
BEGIN:VEVENT
UID:9@nwf-gmuend.at
DTSTART;TZID=Europe/Vienna:20260426T103000
DTEND;TZID=Europe/Vienna:20260426T113000
DTSTAMP:20260310T172218Z
URL:https://nwf-gmuend.at/events/u11-nwf-gmuend-eibenstein-sv-weitra/
SUMMARY:U11: NWF Gmünd-Eibenstein - SV Weitra
DESCRIPTION:
CATEGORIES:U11
LOCATION:Polimac Gmünd II Arena\, Lagerstraße 71\, Gmünd\, 3950\, Öster
 reich
GEO:48.757091;14.973429
X-APPLE-STRUCTURED-LOCATION;VALUE=URI;X-ADDRESS=Lagerstraße 71\, Gmünd\, 
 3950\, Österreich;X-APPLE-RADIUS=100;X-TITLE=Polimac Gmünd II Arena:geo:
 48.757091,14.973429
END:VEVENT
BEGIN:VEVENT
UID:6@nwf-gmuend.at
DTSTART;TZID=Europe/Vienna:20260427T160000
DTEND;TZID=Europe/Vienna:20260427T170000
DTSTAMP:20260223T223722Z
URL:https://nwf-gmuend.at/events/schnuppertraining/
SUMMARY:Schnuppertraining
DESCRIPTION:
CATEGORIES:Veranstaltung
LOCATION:Polimac Gmünd II Arena\, Lagerstraße 71\, Gmünd\, 3950\, Öster
 reich
GEO:48.757091;14.973429
X-APPLE-STRUCTURED-LOCATION;VALUE=URI;X-ADDRESS=Lagerstraße 71\, Gmünd\, 
 3950\, Österreich;X-APPLE-RADIUS=100;X-TITLE=Polimac Gmünd II Arena:geo:
 48.757091,14.973429
END:VEVENT
BEGIN:VEVENT
UID:63@nwf-gmuend.at
DTSTART;TZID=Europe/Vienna:20260429T143000
DTEND;TZID=Europe/Vienna:20260429T153000
DTSTAMP:20260316T221136Z
URL:https://nwf-gmuend.at/events/u13-fc-heidenreichstein-nwf-gmuend-eibens
 tein/
SUMMARY:U13: FC Heidenreichstein - NWF Gmünd-Eibenstein
DESCRIPTION:
CATEGORIES:U13
LOCATION:Waldstadion Heidenreichstein\, Sportgasse 15\, Heidenreichstein\, 
 3860\, Österreich
GEO:48.858437;15.127672
X-APPLE-STRUCTURED-LOCATION;VALUE=URI;X-ADDRESS=Sportgasse 15\, Heidenreich
 stein\, 3860\, Österreich;X-APPLE-RADIUS=100;X-TITLE=Waldstadion Heidenre
 ichstein:geo:48.858437,15.127672
END:VEVENT
BEGIN:VEVENT
UID:22@nwf-gmuend.at
DTSTART;TZID=Europe/Vienna:20260430T170000
DTEND;TZID=Europe/Vienna:20260430T180000
DTSTAMP:20260311T171830Z
URL:https://nwf-gmuend.at/events/u10b-spg-st-martin-nwf-gmuend-eibenstein/
SUMMARY:U10B: SPG St. Martin - NWF Gmünd-Eibenstein
DESCRIPTION:
CATEGORIES:U10B
LOCATION:Sportplatz SC St. Martin\, Roßbruck 36\, St. Martin\, 3971\, Öst
 erreich
GEO:48.676259;14.840178
X-APPLE-STRUCTURED-LOCATION;VALUE=URI;X-ADDRESS=Roßbruck 36\, St. Martin\,
  3971\, Österreich;X-APPLE-RADIUS=100;X-TITLE=Sportplatz SC St. Martin:ge
 o:48.676259,14.840178
END:VEVENT
BEGIN:VEVENT
UID:10@nwf-gmuend.at
DTSTART;TZID=Europe/Vienna:20260502T140000
DTEND;TZID=Europe/Vienna:20260502T150000
DTSTAMP:20260310T172242Z
URL:https://nwf-gmuend.at/events/u11-usc-rappottenstein-nwf-gmuend-eibenst
 ein/
SUMMARY:U11: USC Rappottenstein - NWF Gmünd-Eibenstein
DESCRIPTION:
CATEGORIES:U11
LOCATION:"Die Festung" Rappottenstein\, Rappottenstein 75\, Rappottenstein\
 , 3911\, Österreich
GEO:48.520677;15.08773
X-APPLE-STRUCTURED-LOCATION;VALUE=URI;X-ADDRESS=Rappottenstein 75\, Rappott
 enstein\, 3911\, Österreich;X-APPLE-RADIUS=100;X-TITLE=\"Die Festung\" Ra
 ppottenstein:geo:48.520677,15.08773
END:VEVENT
BEGIN:VEVENT
UID:52@nwf-gmuend.at
DTSTART;TZID=Europe/Vienna:20260503T103000
DTEND;TZID=Europe/Vienna:20260503T113000
DTSTAMP:20260316T215143Z
URL:https://nwf-gmuend.at/events/u12-union-japons-nwf-gmuend-eibenstein/
SUMMARY:U12: Union Japons - NWF Gmünd-Eibenstein
DESCRIPTION:
CATEGORIES:U12
LOCATION:Sportplatz Japons\, Japons 66\, Japons\, 3763\, Österreich
GEO:48.795325;15.566847
X-APPLE-STRUCTURED-LOCATION;VALUE=URI;X-ADDRESS=Japons 66\, Japons\, 3763\,
  Österreich;X-APPLE-RADIUS=100;X-TITLE=Sportplatz Japons:geo:48.795325,15
 .566847
END:VEVENT
BEGIN:VEVENT
UID:41@nwf-gmuend.at
DTSTART;TZID=Europe/Vienna:20260503T103000
DTEND;TZID=Europe/Vienna:20260503T113000
DTSTAMP:20260311T173323Z
URL:https://nwf-gmuend.at/events/u9-blau-scu-nondorf-nwf-gmuend-eibenstein
 /
SUMMARY:U9 blau: SCU Nondorf - NWF Gmünd-Eibenstein
DESCRIPTION:
CATEGORIES:U9 blau
LOCATION:Sportplatz Nondorf\, Sportplatzgasse 121\, Nondorf\, 3945\, Öster
 reich
GEO:48.750976;15.033038
X-APPLE-STRUCTURED-LOCATION;VALUE=URI;X-ADDRESS=Sportplatzgasse 121\, Nondo
 rf\, 3945\, Österreich;X-APPLE-RADIUS=100;X-TITLE=Sportplatz Nondorf:geo:
 48.750976,15.033038
END:VEVENT
BEGIN:VEVENT
UID:23@nwf-gmuend.at
DTSTART;TZID=Europe/Vienna:20260503T110000
DTEND;TZID=Europe/Vienna:20260503T120000
DTSTAMP:20260311T171917Z
URL:https://nwf-gmuend.at/events/u10a-spg-albrechtsberg-nwf-gmuend-eibenst
 ein/
SUMMARY:U10A: SPG Albrechtsberg - NWF Gmünd-Eibenstein
DESCRIPTION:
CATEGORIES:U10A
LOCATION:Otmar Köck Arena Albrechtsberg\, Otmar Köck Arena\, Albrechtsber
 g\, 3613\, Österreich
GEO:48.460968;15.360678
X-APPLE-STRUCTURED-LOCATION;VALUE=URI;X-ADDRESS=Otmar Köck Arena\, Albrech
 tsberg\, 3613\, Österreich;X-APPLE-RADIUS=100;X-TITLE=Otmar Köck Arena A
 lbrechtsberg:geo:48.460968,15.360678
END:VEVENT
BEGIN:VEVENT
UID:40@nwf-gmuend.at
DTSTART;TZID=Europe/Vienna:20260503T133000
DTEND;TZID=Europe/Vienna:20260503T143000
DTSTAMP:20260311T173043Z
URL:https://nwf-gmuend.at/events/u9-rot-sv-waldhausen-noe-nwf-gmuend-eiben
 stein/
SUMMARY:U9 rot: SV Waldhausen NÖ - NWF Gmünd-Eibenstein
DESCRIPTION:
CATEGORIES:U9 rot
LOCATION:Sportplatz SV Waldhausen\, Waldhausen/NÖ 54\, Waldhausen/NÖ\, 39
 14\, Österreich
GEO:48.521638;15.262579
X-APPLE-STRUCTURED-LOCATION;VALUE=URI;X-ADDRESS=Waldhausen/NÖ 54\, Waldhau
 sen/NÖ\, 3914\, Österreich;X-APPLE-RADIUS=100;X-TITLE=Sportplatz SV Wald
 hausen:geo:48.521638,15.262579
END:VEVENT
BEGIN:VEVENT
UID:24@nwf-gmuend.at
DTSTART;TZID=Europe/Vienna:20260508T160000
DTEND;TZID=Europe/Vienna:20260508T170000
DTSTAMP:20260311T171934Z
URL:https://nwf-gmuend.at/events/u10a-nwf-gmuend-eibenstein-usc-schweigger
 s/
SUMMARY:U10A: NWF Gmünd-Eibenstein - USC Schweiggers
DESCRIPTION:
CATEGORIES:U10A
LOCATION:Polimac Gmünd II Arena\, Lagerstraße 71\, Gmünd\, 3950\, Öster
 reich
GEO:48.757091;14.973429
X-APPLE-STRUCTURED-LOCATION;VALUE=URI;X-ADDRESS=Lagerstraße 71\, Gmünd\, 
 3950\, Österreich;X-APPLE-RADIUS=100;X-TITLE=Polimac Gmünd II Arena:geo:
 48.757091,14.973429
END:VEVENT
BEGIN:VEVENT
UID:42@nwf-gmuend.at
DTSTART;TZID=Europe/Vienna:20260508T173000
DTEND;TZID=Europe/Vienna:20260508T183000
DTSTAMP:20260311T173724Z
URL:https://nwf-gmuend.at/events/u9-rot-spg-1-sv-vitis-nwf-gmuend-eibenste
 in/
SUMMARY:U9 rot: SPG 1. SV Vitis - NWF Gmünd-Eibenstein
DESCRIPTION:
CATEGORIES:U9 rot
LOCATION:Sportplatz 1. SV Appel Vitis\, Titus-Appel-Straße 2\, Vitis\, 390
 2\, Österreich
GEO:48.753992;15.183551
X-APPLE-STRUCTURED-LOCATION;VALUE=URI;X-ADDRESS=Titus-Appel-Straße 2\, Vit
 is\, 3902\, Österreich;X-APPLE-RADIUS=100;X-TITLE=Sportplatz 1. SV Appel 
 Vitis:geo:48.753992,15.183551
END:VEVENT
BEGIN:VEVENT
UID:64@nwf-gmuend.at
DTSTART;TZID=Europe/Vienna:20260508T180000
DTEND;TZID=Europe/Vienna:20260508T190000
DTSTAMP:20260316T221233Z
URL:https://nwf-gmuend.at/events/u13-nwf-gmuend-eibenstein-usc-rapottenste
 in/
SUMMARY:U13: NWF Gmünd-Eibenstein - USC Rapottenstein
DESCRIPTION:
CATEGORIES:U13
LOCATION:Waldstadion SV Eibenstein\, Nagelbergerstr. 54\, Neunagelberg\, 39
 50\, Österreich
GEO:48.822354;14.971961
X-APPLE-STRUCTURED-LOCATION;VALUE=URI;X-ADDRESS=Nagelbergerstr. 54\, Neunag
 elberg\, 3950\, Österreich;X-APPLE-RADIUS=100;X-TITLE=Waldstadion SV Eibe
 nstein:geo:48.822354,14.971961
END:VEVENT
BEGIN:VEVENT
UID:53@nwf-gmuend.at
DTSTART;TZID=Europe/Vienna:20260509T103000
DTEND;TZID=Europe/Vienna:20260509T113000
DTSTAMP:20260316T215244Z
URL:https://nwf-gmuend.at/events/u12-nwf-gmuend-eibenstein-sv-waidhofen-th
 aya/
SUMMARY:U12: NWF Gmünd-Eibenstein - SV Waidhofen/Thaya
DESCRIPTION:
CATEGORIES:U12
LOCATION:Polimac Gmünd II Arena\, Lagerstraße 71\, Gmünd\, 3950\, Öster
 reich
GEO:48.757091;14.973429
X-APPLE-STRUCTURED-LOCATION;VALUE=URI;X-ADDRESS=Lagerstraße 71\, Gmünd\, 
 3950\, Österreich;X-APPLE-RADIUS=100;X-TITLE=Polimac Gmünd II Arena:geo:
 48.757091,14.973429
END:VEVENT
BEGIN:VEVENT
UID:44@nwf-gmuend.at
DTSTART;TZID=Europe/Vienna:20260511T170000
DTEND;TZID=Europe/Vienna:20260511T180000
DTSTAMP:20260311T174549Z
URL:https://nwf-gmuend.at/events/u9-rot-nwf-gmuend-eibenstein-asv-schrems-
 c/
SUMMARY:U9 rot: NWF Gmünd-Eibenstein - ASV Schrems C
DESCRIPTION:
CATEGORIES:U9 rot
LOCATION:Waldstadion SV Eibenstein\, Nagelbergerstr. 54\, Neunagelberg\, 39
 50\, Österreich
GEO:48.822354;14.971961
X-APPLE-STRUCTURED-LOCATION;VALUE=URI;X-ADDRESS=Nagelbergerstr. 54\, Neunag
 elberg\, 3950\, Österreich;X-APPLE-RADIUS=100;X-TITLE=Waldstadion SV Eibe
 nstein:geo:48.822354,14.971961
END:VEVENT
BEGIN:VEVENT
UID:43@nwf-gmuend.at
DTSTART;TZID=Europe/Vienna:20260512T170000
DTEND;TZID=Europe/Vienna:20260512T180000
DTSTAMP:20260311T174337Z
URL:https://nwf-gmuend.at/events/u9-blau-spg-brand-amaliendorf-nwf-gmuend-
 eibenstein/
SUMMARY:U9 blau: SPG Brand-Amaliendorf - NWF Gmünd-Eibenstein
DESCRIPTION:
CATEGORIES:U9 blau
LOCATION:Sportplatz Brand\, Brand 134\, Brand\, 3873\, Österreich
GEO:48.865421;15.007786
X-APPLE-STRUCTURED-LOCATION;VALUE=URI;X-ADDRESS=Brand 134\, Brand\, 3873\, 
 Österreich;X-APPLE-RADIUS=100;X-TITLE=Sportplatz Brand:geo:48.865421,15.0
 07786
END:VEVENT
BEGIN:VEVENT
UID:54@nwf-gmuend.at
DTSTART;TZID=Europe/Vienna:20260512T173000
DTEND;TZID=Europe/Vienna:20260512T183000
DTSTAMP:20260316T215417Z
URL:https://nwf-gmuend.at/events/u12-nwf-gmuend-eibenstein-usc-bad-grosspe
 rtholz/
SUMMARY:U12: NWF Gmünd-Eibenstein - USC Bad Großpertholz
DESCRIPTION:
CATEGORIES:U12
LOCATION:Polimac Gmünd II Arena\, Lagerstraße 71\, Gmünd\, 3950\, Öster
 reich
GEO:48.757091;14.973429
X-APPLE-STRUCTURED-LOCATION;VALUE=URI;X-ADDRESS=Lagerstraße 71\, Gmünd\, 
 3950\, Österreich;X-APPLE-RADIUS=100;X-TITLE=Polimac Gmünd II Arena:geo:
 48.757091,14.973429
END:VEVENT
BEGIN:VEVENT
UID:65@nwf-gmuend.at
DTSTART;TZID=Europe/Vienna:20260513T180000
DTEND;TZID=Europe/Vienna:20260513T190000
DTSTAMP:20260316T221454Z
URL:https://nwf-gmuend.at/events/u13-nwf-gmuend-eibenstein-ufc-rastenfeld-
 2/
SUMMARY:U13: NWF Gmünd-Eibenstein - UFC Rastenfeld
DESCRIPTION:
CATEGORIES:U13
LOCATION:Polimac Gmünd II Arena\, Lagerstraße 71\, Gmünd\, 3950\, Öster
 reich
GEO:48.757091;14.973429
X-APPLE-STRUCTURED-LOCATION;VALUE=URI;X-ADDRESS=Lagerstraße 71\, Gmünd\, 
 3950\, Österreich;X-APPLE-RADIUS=100;X-TITLE=Polimac Gmünd II Arena:geo:
 48.757091,14.973429
END:VEVENT
BEGIN:VEVENT
UID:25@nwf-gmuend.at
DTSTART;TZID=Europe/Vienna:20260515T153000
DTEND;TZID=Europe/Vienna:20260515T163000
DTSTAMP:20260311T171954Z
URL:https://nwf-gmuend.at/events/u10b-spg-lichtenau-nwf-gmuend-eibenstein/
SUMMARY:U10B: SPG Lichtenau - NWF Gmünd-Eibenstein
DESCRIPTION:
CATEGORIES:U10B
LOCATION:Sportplatz SV Lichtenau\, Lichtenau 85\, Lichtenau\, 3522\, Öster
 reich
GEO:48.500257;15.391014
X-APPLE-STRUCTURED-LOCATION;VALUE=URI;X-ADDRESS=Lichtenau 85\, Lichtenau\, 
 3522\, Österreich;X-APPLE-RADIUS=100;X-TITLE=Sportplatz SV Lichtenau:geo:
 48.500257,15.391014
END:VEVENT
BEGIN:VEVENT
UID:11@nwf-gmuend.at
DTSTART;TZID=Europe/Vienna:20260515T170000
DTEND;TZID=Europe/Vienna:20260515T180000
DTSTAMP:20260310T172301Z
URL:https://nwf-gmuend.at/events/u11-ufc-arbesbach-nwf-gmuend-eibenstein/
SUMMARY:U11: UFC Arbesbach - NWF Gmünd-Eibenstein
DESCRIPTION:
CATEGORIES:U11
LOCATION:Sportplatz UFC Arbesbach\, Arbesbach 152\, Arbesbach\, 3925\, Öst
 erreich
GEO:48.492282;14.955365
X-APPLE-STRUCTURED-LOCATION;VALUE=URI;X-ADDRESS=Arbesbach 152\, Arbesbach\,
  3925\, Österreich;X-APPLE-RADIUS=100;X-TITLE=Sportplatz UFC Arbesbach:ge
 o:48.492282,14.955365
END:VEVENT
BEGIN:VEVENT
UID:26@nwf-gmuend.at
DTSTART;TZID=Europe/Vienna:20260516T100000
DTEND;TZID=Europe/Vienna:20260516T110000
DTSTAMP:20260311T174040Z
URL:https://nwf-gmuend.at/events/u10a-sv-waidhofen-thaya-nwf-gmuend-eibens
 tein/
SUMMARY:U10A: SV Waidhofen/Thaya - NWF Gmünd-Eibenstein
DESCRIPTION:
CATEGORIES:U10A
LOCATION:Birkenstadion Waidhofen-Thaya\, Thayastraße 7\, Waidhofen/Thaya\,
  3830\, Österreich
GEO:48.81794;15.282177
X-APPLE-STRUCTURED-LOCATION;VALUE=URI;X-ADDRESS=Thayastraße 7\, Waidhofen/
 Thaya\, 3830\, Österreich;X-APPLE-RADIUS=100;X-TITLE=Birkenstadion Waidho
 fen-Thaya:geo:48.81794,15.282177
END:VEVENT
BEGIN:VEVENT
UID:12@nwf-gmuend.at
DTSTART;TZID=Europe/Vienna:20260522T173000
DTEND;TZID=Europe/Vienna:20260522T183000
DTSTAMP:20260310T172324Z
URL:https://nwf-gmuend.at/events/u11-nwf-gmuend-eibenstein-spg-waldhausen/
SUMMARY:U11: NWF Gmünd-Eibenstein - SPG Waldhausen
DESCRIPTION:
CATEGORIES:U11
LOCATION:Waldstadion SV Eibenstein\, Nagelbergerstr. 54\, Neunagelberg\, 39
 50\, Österreich
GEO:48.822354;14.971961
X-APPLE-STRUCTURED-LOCATION;VALUE=URI;X-ADDRESS=Nagelbergerstr. 54\, Neunag
 elberg\, 3950\, Österreich;X-APPLE-RADIUS=100;X-TITLE=Waldstadion SV Eibe
 nstein:geo:48.822354,14.971961
END:VEVENT
BEGIN:VEVENT
UID:55@nwf-gmuend.at
DTSTART;TZID=Europe/Vienna:20260523T140000
DTEND;TZID=Europe/Vienna:20260523T150000
DTSTAMP:20260316T215516Z
URL:https://nwf-gmuend.at/events/u12-nwf-gmuend-eibenstein-usv-dobersberg/
SUMMARY:U12: NWF Gmünd-Eibenstein - USV Dobersberg
DESCRIPTION:
CATEGORIES:U12
LOCATION:Waldstadion SV Eibenstein\, Nagelbergerstr. 54\, Neunagelberg\, 39
 50\, Österreich
GEO:48.822354;14.971961
X-APPLE-STRUCTURED-LOCATION;VALUE=URI;X-ADDRESS=Nagelbergerstr. 54\, Neunag
 elberg\, 3950\, Österreich;X-APPLE-RADIUS=100;X-TITLE=Waldstadion SV Eibe
 nstein:geo:48.822354,14.971961
END:VEVENT
BEGIN:VEVENT
UID:45@nwf-gmuend.at
DTSTART;TZID=Europe/Vienna:20260527T170000
DTEND;TZID=Europe/Vienna:20260527T180000
DTSTAMP:20260311T174734Z
URL:https://nwf-gmuend.at/events/u9-blau-nwf-gmuend-eibenstein-usc-litscha
 u/
SUMMARY:U9 blau: NWF Gmünd-Eibenstein - USC Litschau
DESCRIPTION:
CATEGORIES:U9 blau
LOCATION:Waldstadion SV Eibenstein\, Nagelbergerstr. 54\, Neunagelberg\, 39
 50\, Österreich
GEO:48.822354;14.971961
X-APPLE-STRUCTURED-LOCATION;VALUE=URI;X-ADDRESS=Nagelbergerstr. 54\, Neunag
 elberg\, 3950\, Österreich;X-APPLE-RADIUS=100;X-TITLE=Waldstadion SV Eibe
 nstein:geo:48.822354,14.971961
END:VEVENT
BEGIN:VEVENT
UID:66@nwf-gmuend.at
DTSTART;TZID=Europe/Vienna:20260527T173000
DTEND;TZID=Europe/Vienna:20260527T183000
DTSTAMP:20260316T221616Z
URL:https://nwf-gmuend.at/events/u13-fc-heidenreichstein-nwf-gmuend-eibens
 tein-2/
SUMMARY:U13: FC Heidenreichstein - NWF Gmünd-Eibenstein
DESCRIPTION:
CATEGORIES:U13
LOCATION:Waldstadion Heidenreichstein\, Sportgasse 15\, Heidenreichstein\, 
 3860\, Österreich
GEO:48.858437;15.127672
X-APPLE-STRUCTURED-LOCATION;VALUE=URI;X-ADDRESS=Sportgasse 15\, Heidenreich
 stein\, 3860\, Österreich;X-APPLE-RADIUS=100;X-TITLE=Waldstadion Heidenre
 ichstein:geo:48.858437,15.127672
END:VEVENT
BEGIN:VEVENT
UID:28@nwf-gmuend.at
DTSTART;TZID=Europe/Vienna:20260529T160000
DTEND;TZID=Europe/Vienna:20260529T170000
DTSTAMP:20260311T174123Z
URL:https://nwf-gmuend.at/events/u10a-nwf-gmuend-eibenstein-asv-schrems/
SUMMARY:U10A: NWF Gmünd-Eibenstein - ASV Schrems
DESCRIPTION:
CATEGORIES:U10A
LOCATION:Polimac Gmünd II Arena\, Lagerstraße 71\, Gmünd\, 3950\, Öster
 reich
GEO:48.757091;14.973429
X-APPLE-STRUCTURED-LOCATION;VALUE=URI;X-ADDRESS=Lagerstraße 71\, Gmünd\, 
 3950\, Österreich;X-APPLE-RADIUS=100;X-TITLE=Polimac Gmünd II Arena:geo:
 48.757091,14.973429
END:VEVENT
BEGIN:VEVENT
UID:27@nwf-gmuend.at
DTSTART;TZID=Europe/Vienna:20260529T170000
DTEND;TZID=Europe/Vienna:20260529T180000
DTSTAMP:20260311T174143Z
URL:https://nwf-gmuend.at/events/u10b-nwf-gmuend-eibenstein-fc-heidenreich
 stein/
SUMMARY:U10B: NWF Gmünd-Eibenstein - FC Heidenreichstein
DESCRIPTION:
CATEGORIES:U10B
LOCATION:Polimac Gmünd II Arena\, Lagerstraße 71\, Gmünd\, 3950\, Öster
 reich
GEO:48.757091;14.973429
X-APPLE-STRUCTURED-LOCATION;VALUE=URI;X-ADDRESS=Lagerstraße 71\, Gmünd\, 
 3950\, Österreich;X-APPLE-RADIUS=100;X-TITLE=Polimac Gmünd II Arena:geo:
 48.757091,14.973429
END:VEVENT
BEGIN:VEVENT
UID:46@nwf-gmuend.at
DTSTART;TZID=Europe/Vienna:20260602T170000
DTEND;TZID=Europe/Vienna:20260602T180000
DTSTAMP:20260311T180207Z
URL:https://nwf-gmuend.at/events/u9-rot-ufc-rastenfeld-nwf-gmuend-eibenste
 in/
SUMMARY:U9 rot: UFC Rastenfeld - NWF Gmünd-Eibenstein
DESCRIPTION:
CATEGORIES:U9 rot
LOCATION:Sportplatz UFC Rastenfeld\, Rastenfeld 208\, Rastenfeld\, 3532\, 
 Österreich
GEO:48.575598;15.327866
X-APPLE-STRUCTURED-LOCATION;VALUE=URI;X-ADDRESS=Rastenfeld 208\, Rastenfeld
 \, 3532\, Österreich;X-APPLE-RADIUS=100;X-TITLE=Sportplatz UFC Rastenfeld
 :geo:48.575598,15.327866
END:VEVENT
BEGIN:VEVENT
UID:56@nwf-gmuend.at
DTSTART;TZID=Europe/Vienna:20260602T173000
DTEND;TZID=Europe/Vienna:20260602T183000
DTSTAMP:20260316T215613Z
URL:https://nwf-gmuend.at/events/u12-sku-nondorf-nwf-gmuend-eibenstein/
SUMMARY:U12: SKU Nondorf - NWF Gmünd-Eibenstein
DESCRIPTION:
CATEGORIES:U12
LOCATION:Sportplatz Nondorf\, Sportplatzgasse 121\, Nondorf\, 3945\, Öster
 reich
GEO:48.750976;15.033038
X-APPLE-STRUCTURED-LOCATION;VALUE=URI;X-ADDRESS=Sportplatzgasse 121\, Nondo
 rf\, 3945\, Österreich;X-APPLE-RADIUS=100;X-TITLE=Sportplatz Nondorf:geo:
 48.750976,15.033038
END:VEVENT
BEGIN:VEVENT
UID:29@nwf-gmuend.at
DTSTART;TZID=Europe/Vienna:20260604T173000
DTEND;TZID=Europe/Vienna:20260604T183000
DTSTAMP:20260311T174202Z
URL:https://nwf-gmuend.at/events/u10a-usv-gross-gerungs-nwf-gmuend-eibenst
 ein/
SUMMARY:U10A: USV Groß Gerungs - NWF Gmünd-Eibenstein
DESCRIPTION:
CATEGORIES:U10A
LOCATION:Sportplatz Kreuzberg Groß Gerungs\, Arbesbacherstraße 204\, Gro
 ß Gerungs\, 3920\, Österreich
GEO:48.573881;14.958304
X-APPLE-STRUCTURED-LOCATION;VALUE=URI;X-ADDRESS=Arbesbacherstraße 204\, Gr
 oß Gerungs\, 3920\, Österreich;X-APPLE-RADIUS=100;X-TITLE=Sportplatz Kre
 uzberg Groß Gerungs:geo:48.573881,14.958304
END:VEVENT
BEGIN:VEVENT
UID:30@nwf-gmuend.at
DTSTART;TZID=Europe/Vienna:20260605T160000
DTEND;TZID=Europe/Vienna:20260605T170000
DTSTAMP:20260311T174219Z
URL:https://nwf-gmuend.at/events/u10b-scu-nondorf-nwf-gmuend-eibenstein/
SUMMARY:U10B: SCU Nondorf - NWF Gmünd-Eibenstein
DESCRIPTION:
CATEGORIES:U10B
LOCATION:Sportplatz Nondorf\, Sportplatzgasse 121\, Nondorf\, 3945\, Öster
 reich
GEO:48.750976;15.033038
X-APPLE-STRUCTURED-LOCATION;VALUE=URI;X-ADDRESS=Sportplatzgasse 121\, Nondo
 rf\, 3945\, Österreich;X-APPLE-RADIUS=100;X-TITLE=Sportplatz Nondorf:geo:
 48.750976,15.033038
END:VEVENT
BEGIN:VEVENT
UID:13@nwf-gmuend.at
DTSTART;TZID=Europe/Vienna:20260606T110000
DTEND;TZID=Europe/Vienna:20260606T120000
DTSTAMP:20260310T172348Z
URL:https://nwf-gmuend.at/events/u11-sv-weitra-nwf-gmuend-eibenstein/
SUMMARY:U11: SV Weitra - NWF Gmünd-Eibenstein
DESCRIPTION:
CATEGORIES:U11
LOCATION:Braustadt-Stadion Weitra\, Wetzlesstraße 314\, Weitra\, 3970\, Ö
 sterreich
GEO:48.697733;14.907585
X-APPLE-STRUCTURED-LOCATION;VALUE=URI;X-ADDRESS=Wetzlesstraße 314\, Weitra
 \, 3970\, Österreich;X-APPLE-RADIUS=100;X-TITLE=Braustadt-Stadion Weitra:
 geo:48.697733,14.907585
END:VEVENT
BEGIN:VEVENT
UID:67@nwf-gmuend.at
DTSTART;TZID=Europe/Vienna:20260606T173000
DTEND;TZID=Europe/Vienna:20260606T183000
DTSTAMP:20260316T221737Z
URL:https://nwf-gmuend.at/events/u13-usc-rapottenstein-nwf-gmuend-eibenste
 in-2/
SUMMARY:U13: USC Rapottenstein - NWF Gmünd-Eibenstein
DESCRIPTION:
CATEGORIES:U13
LOCATION:"Die Festung" Rappottenstein\, Rappottenstein 75\, Rappottenstein\
 , 3911\, Österreich
GEO:48.520677;15.08773
X-APPLE-STRUCTURED-LOCATION;VALUE=URI;X-ADDRESS=Rappottenstein 75\, Rappott
 enstein\, 3911\, Österreich;X-APPLE-RADIUS=100;X-TITLE=\"Die Festung\" Ra
 ppottenstein:geo:48.520677,15.08773
END:VEVENT
BEGIN:VEVENT
UID:31@nwf-gmuend.at
DTSTART;TZID=Europe/Vienna:20260612T160000
DTEND;TZID=Europe/Vienna:20260612T170000
DTSTAMP:20260311T174303Z
URL:https://nwf-gmuend.at/events/u10b-nwf-gmuend-eibenstein-spg-st-martin/
SUMMARY:U10B: NWF Gmünd-Eibenstein - SPG St. Martin
DESCRIPTION:
CATEGORIES:U10B
LOCATION:Polimac Gmünd II Arena\, Lagerstraße 71\, Gmünd\, 3950\, Öster
 reich
GEO:48.757091;14.973429
X-APPLE-STRUCTURED-LOCATION;VALUE=URI;X-ADDRESS=Lagerstraße 71\, Gmünd\, 
 3950\, Österreich;X-APPLE-RADIUS=100;X-TITLE=Polimac Gmünd II Arena:geo:
 48.757091,14.973429
END:VEVENT
BEGIN:VEVENT
UID:47@nwf-gmuend.at
DTSTART;TZID=Europe/Vienna:20260612T170000
DTEND;TZID=Europe/Vienna:20260612T180000
DTSTAMP:20260311T180413Z
URL:https://nwf-gmuend.at/events/u9-rot-nwf-gmuend-eibenstein-sv-waldhause
 n-noe/
SUMMARY:U9 rot: NWF Gmünd-Eibenstein - SV Waldhausen NÖ
DESCRIPTION:
CATEGORIES:U9 rot
LOCATION:Waldstadion SV Eibenstein\, Nagelbergerstr. 54\, Neunagelberg\, 39
 50\, Österreich
GEO:48.822354;14.971961
X-APPLE-STRUCTURED-LOCATION;VALUE=URI;X-ADDRESS=Nagelbergerstr. 54\, Neunag
 elberg\, 3950\, Österreich;X-APPLE-RADIUS=100;X-TITLE=Waldstadion SV Eibe
 nstein:geo:48.822354,14.971961
END:VEVENT
BEGIN:VEVENT
UID:32@nwf-gmuend.at
DTSTART;TZID=Europe/Vienna:20260612T170000
DTEND;TZID=Europe/Vienna:20260612T180000
DTSTAMP:20260311T174324Z
URL:https://nwf-gmuend.at/events/u10a-nwf-gmuend-eibenstein-spg-albrechtsb
 erg/
SUMMARY:U10A: NWF Gmünd-Eibenstein - SPG Albrechtsberg
DESCRIPTION:
CATEGORIES:U10A
LOCATION:Polimac Gmünd II Arena\, Lagerstraße 71\, Gmünd\, 3950\, Öster
 reich
GEO:48.757091;14.973429
X-APPLE-STRUCTURED-LOCATION;VALUE=URI;X-ADDRESS=Lagerstraße 71\, Gmünd\, 
 3950\, Österreich;X-APPLE-RADIUS=100;X-TITLE=Polimac Gmünd II Arena:geo:
 48.757091,14.973429
END:VEVENT
BEGIN:VEVENT
UID:14@nwf-gmuend.at
DTSTART;TZID=Europe/Vienna:20260613T103000
DTEND;TZID=Europe/Vienna:20260613T113000
DTSTAMP:20260310T172059Z
URL:https://nwf-gmuend.at/events/u11-nwf-gmuend-eibenstein-usc-rappottenst
 ein/
SUMMARY:U11: NWF Gmünd-Eibenstein - USC Rappottenstein
DESCRIPTION:
CATEGORIES:U11
LOCATION:Polimac Gmünd II Arena\, Lagerstraße 71\, Gmünd\, 3950\, Öster
 reich
GEO:48.757091;14.973429
X-APPLE-STRUCTURED-LOCATION;VALUE=URI;X-ADDRESS=Lagerstraße 71\, Gmünd\, 
 3950\, Österreich;X-APPLE-RADIUS=100;X-TITLE=Polimac Gmünd II Arena:geo:
 48.757091,14.973429
END:VEVENT
BEGIN:VEVENT
UID:57@nwf-gmuend.at
DTSTART;TZID=Europe/Vienna:20260614T103000
DTEND;TZID=Europe/Vienna:20260614T113000
DTSTAMP:20260316T215803Z
URL:https://nwf-gmuend.at/events/u12-nwf-gmuend-eibenstein-union-japons/
SUMMARY:U12: NWF Gmünd-Eibenstein - Union Japons
DESCRIPTION:
CATEGORIES:U12
LOCATION:Polimac Gmünd II Arena\, Lagerstraße 71\, Gmünd\, 3950\, Öster
 reich
GEO:48.757091;14.973429
X-APPLE-STRUCTURED-LOCATION;VALUE=URI;X-ADDRESS=Lagerstraße 71\, Gmünd\, 
 3950\, Österreich;X-APPLE-RADIUS=100;X-TITLE=Polimac Gmünd II Arena:geo:
 48.757091,14.973429
END:VEVENT
BEGIN:VTIMEZONE
TZID:Europe/Vienna
X-LIC-LOCATION:Europe/Vienna
BEGIN:DAYLIGHT
DTSTART:20260329T030000
TZOFFSETFROM:+0100
TZOFFSETTO:+0200
TZNAME:CEST
END:DAYLIGHT
END:VTIMEZONE
END:VCALENDAR