BEGIN:VCALENDAR
VERSION:2.0
PRODID:-//wp-events-plugin.com//7.2.3.1//EN
TZID:Europe/Vienna
X-WR-TIMEZONE:Europe/Vienna
BEGIN:VEVENT
UID:16@nwf-gmuend.at
DTSTART;TZID=Europe/Vienna:20260410T160000
DTEND;TZID=Europe/Vienna:20260410T170000
DTSTAMP:20260311T171525Z
URL:https://nwf-gmuend.at/events/u10a-nwf-gmuend-eibenstein-sv-waidhofen-t
 haya/
SUMMARY:U10A: NWF Gmünd-Eibenstein - SV Waidhofen/Thaya
DESCRIPTION:
CATEGORIES:U10A
LOCATION:Polimac Gmünd II Arena\, Lagerstraße 71\, Gmünd\, 3950\, Öster
 reich
GEO:48.757091;14.973429
X-APPLE-STRUCTURED-LOCATION;VALUE=URI;X-ADDRESS=Lagerstraße 71\, Gmünd\, 
 3950\, Österreich;X-APPLE-RADIUS=100;X-TITLE=Polimac Gmünd II Arena:geo:
 48.757091,14.973429
END:VEVENT
BEGIN:VTIMEZONE
TZID:Europe/Vienna
X-LIC-LOCATION:Europe/Vienna
BEGIN:DAYLIGHT
DTSTART:20260329T030000
TZOFFSETFROM:+0100
TZOFFSETTO:+0200
TZNAME:CEST
END:DAYLIGHT
END:VTIMEZONE
END:VCALENDAR