BEGIN:VCALENDAR
VERSION:2.0
PRODID:-//wp-events-plugin.com//7.2.3.1//EN
TZID:Europe/Vienna
X-WR-TIMEZONE:Europe/Vienna
BEGIN:VEVENT
UID:15@nwf-gmuend.at
DTSTART;TZID=Europe/Vienna:20260407T170000
DTEND;TZID=Europe/Vienna:20260407T180000
DTSTAMP:20260327T145949Z
URL:https://nwf-gmuend.at/events/u10a-usc-schweiggers-nwf-gmuend-eibenstei
 n/
SUMMARY:U10A: USC Schweiggers - NWF Gmünd-Eibenstein
DESCRIPTION:
CATEGORIES:U10A
LOCATION:Sportplatz USC Schweiggers\, Sportplatzstrasse 9\, Schweiggers\, 3
 931\, Österreich
GEO:48.667287;15.06978
X-APPLE-STRUCTURED-LOCATION;VALUE=URI;X-ADDRESS=Sportplatzstrasse 9\, Schwe
 iggers\, 3931\, Österreich;X-APPLE-RADIUS=100;X-TITLE=Sportplatz USC Schw
 eiggers:geo:48.667287,15.06978
END:VEVENT
BEGIN:VTIMEZONE
TZID:Europe/Vienna
X-LIC-LOCATION:Europe/Vienna
BEGIN:DAYLIGHT
DTSTART:20260329T030000
TZOFFSETFROM:+0100
TZOFFSETTO:+0200
TZNAME:CEST
END:DAYLIGHT
END:VTIMEZONE
END:VCALENDAR