BEGIN:VCALENDAR
VERSION:2.0
PRODID:-//wp-events-plugin.com//7.2.3.1//EN
TZID:Europe/Vienna
X-WR-TIMEZONE:Europe/Vienna
BEGIN:VEVENT
UID:19@nwf-gmuend.at
DTSTART;TZID=Europe/Vienna:20260418T093000
DTEND;TZID=Europe/Vienna:20260418T103000
DTSTAMP:20260311T171623Z
URL:https://nwf-gmuend.at/events/u10b-fc-heidenreichstein-nwf-gmuend-eiben
 stein/
SUMMARY:U10B: FC Heidenreichstein - NWF Gmünd-Eibenstein
DESCRIPTION:
CATEGORIES:U10B
LOCATION:Waldstadion Heidenreichstein\, Sportgasse 15\, Heidenreichstein\, 
 3860\, Österreich
GEO:48.858437;15.127672
X-APPLE-STRUCTURED-LOCATION;VALUE=URI;X-ADDRESS=Sportgasse 15\, Heidenreich
 stein\, 3860\, Österreich;X-APPLE-RADIUS=100;X-TITLE=Waldstadion Heidenre
 ichstein:geo:48.858437,15.127672
END:VEVENT
BEGIN:VTIMEZONE
TZID:Europe/Vienna
X-LIC-LOCATION:Europe/Vienna
BEGIN:DAYLIGHT
DTSTART:20260329T030000
TZOFFSETFROM:+0100
TZOFFSETTO:+0200
TZNAME:CEST
END:DAYLIGHT
END:VTIMEZONE
END:VCALENDAR