BEGIN:VCALENDAR
VERSION:2.0
PRODID:-//wp-events-plugin.com//7.2.3.1//EN
TZID:Europe/Vienna
X-WR-TIMEZONE:Europe/Vienna
BEGIN:VEVENT
UID:48@nwf-gmuend.at
DTSTART;TZID=Europe/Vienna:20260325T180000
DTEND;TZID=Europe/Vienna:20260325T190000
DTSTAMP:20260323T113400Z
URL:https://nwf-gmuend.at/events/u12-sv-waidhofen-thaya-nwf-gmuend-eibenst
 ein/
SUMMARY:U12: SV Waidhofen/Thaya - NWF Gmünd-Eibenstein
DESCRIPTION:
CATEGORIES:U12
LOCATION:Birkenstadion Waidhofen-Thaya\, Thayastraße 7\, Waidhofen/Thaya\,
  3830\, Österreich
GEO:48.81794;15.282177
X-APPLE-STRUCTURED-LOCATION;VALUE=URI;X-ADDRESS=Thayastraße 7\, Waidhofen/
 Thaya\, 3830\, Österreich;X-APPLE-RADIUS=100;X-TITLE=Birkenstadion Waidho
 fen-Thaya:geo:48.81794,15.282177
END:VEVENT
BEGIN:VTIMEZONE
TZID:Europe/Vienna
X-LIC-LOCATION:Europe/Vienna
BEGIN:STANDARD
DTSTART:20251026T020000
TZOFFSETFROM:+0200
TZOFFSETTO:+0100
TZNAME:CET
END:STANDARD
END:VTIMEZONE
END:VCALENDAR