BEGIN:VCALENDAR
VERSION:2.0
PRODID:-//wp-events-plugin.com//7.2.3.1//EN
TZID:Europe/Vienna
X-WR-TIMEZONE:Europe/Vienna
BEGIN:VEVENT
UID:52@nwf-gmuend.at
DTSTART;TZID=Europe/Vienna:20260503T103000
DTEND;TZID=Europe/Vienna:20260503T113000
DTSTAMP:20260316T215143Z
URL:https://nwf-gmuend.at/events/u12-union-japons-nwf-gmuend-eibenstein/
SUMMARY:U12: Union Japons - NWF Gmünd-Eibenstein
DESCRIPTION:
CATEGORIES:U12
LOCATION:Sportplatz Japons\, Japons 66\, Japons\, 3763\, Österreich
GEO:48.795325;15.566847
X-APPLE-STRUCTURED-LOCATION;VALUE=URI;X-ADDRESS=Japons 66\, Japons\, 3763\,
  Österreich;X-APPLE-RADIUS=100;X-TITLE=Sportplatz Japons:geo:48.795325,15
 .566847
END:VEVENT
BEGIN:VTIMEZONE
TZID:Europe/Vienna
X-LIC-LOCATION:Europe/Vienna
BEGIN:DAYLIGHT
DTSTART:20260329T030000
TZOFFSETFROM:+0100
TZOFFSETTO:+0200
TZNAME:CEST
END:DAYLIGHT
END:VTIMEZONE
END:VCALENDAR