BEGIN:VCALENDAR
VERSION:2.0
PRODID:-//wp-events-plugin.com//7.2.3.1//EN
TZID:Europe/Vienna
X-WR-TIMEZONE:Europe/Vienna
BEGIN:VEVENT
UID:49@nwf-gmuend.at
DTSTART;TZID=Europe/Vienna:20260409T173000
DTEND;TZID=Europe/Vienna:20260409T183000
DTSTAMP:20260316T214738Z
URL:https://nwf-gmuend.at/events/u12-usc-bad-grosspertholz-nwf-gmuend-eibe
 nstein/
SUMMARY:U12: USC Bad Großpertholz - NWF Gmünd-Eibenstein
DESCRIPTION:
CATEGORIES:U12
LOCATION:Sportplatz USC Bad Großpertholz\, USC Bad Großpertholz Fußball\
 , Bad Großpertholz\, 3972\, Österreich
GEO:48.625164;14.826179
X-APPLE-STRUCTURED-LOCATION;VALUE=URI;X-ADDRESS=USC Bad Großpertholz Fußb
 all\, Bad Großpertholz\, 3972\, Österreich;X-APPLE-RADIUS=100;X-TITLE=Sp
 ortplatz USC Bad Großpertholz:geo:48.625164,14.826179
END:VEVENT
BEGIN:VTIMEZONE
TZID:Europe/Vienna
X-LIC-LOCATION:Europe/Vienna
BEGIN:DAYLIGHT
DTSTART:20260329T030000
TZOFFSETFROM:+0100
TZOFFSETTO:+0200
TZNAME:CEST
END:DAYLIGHT
END:VTIMEZONE
END:VCALENDAR