BEGIN:VCALENDAR
VERSION:2.0
PRODID:-//wp-events-plugin.com//7.2.3.1//EN
TZID:Europe/Vienna
X-WR-TIMEZONE:Europe/Vienna
BEGIN:VEVENT
UID:50@nwf-gmuend.at
DTSTART;TZID=Europe/Vienna:20260419T103000
DTEND;TZID=Europe/Vienna:20260419T113000
DTSTAMP:20260316T214856Z
URL:https://nwf-gmuend.at/events/u12-usv-dobersberg-nwf-gmuend-eibenstein/
SUMMARY:U12: USV Dobersberg - NWF Gmünd-Eibenstein
DESCRIPTION:
CATEGORIES:U12
LOCATION:Sportplatz Dobersberg\, Schulstrasse 2\, Dobersberg\, 3843\, Öste
 rreich
GEO:48.912706;15.318469
X-APPLE-STRUCTURED-LOCATION;VALUE=URI;X-ADDRESS=Schulstrasse 2\, Dobersberg
 \, 3843\, Österreich;X-APPLE-RADIUS=100;X-TITLE=Sportplatz Dobersberg:geo
 :48.912706,15.318469
END:VEVENT
BEGIN:VTIMEZONE
TZID:Europe/Vienna
X-LIC-LOCATION:Europe/Vienna
BEGIN:DAYLIGHT
DTSTART:20260329T030000
TZOFFSETFROM:+0100
TZOFFSETTO:+0200
TZNAME:CEST
END:DAYLIGHT
END:VTIMEZONE
END:VCALENDAR