BEGIN:VCALENDAR
VERSION:2.0
PRODID:-//wp-events-plugin.com//7.2.3.1//EN
TZID:Europe/Vienna
X-WR-TIMEZONE:Europe/Vienna
BEGIN:VEVENT
UID:36@nwf-gmuend.at
DTSTART;TZID=Europe/Vienna:20260410T170000
DTEND;TZID=Europe/Vienna:20260410T180000
DTSTAMP:20260311T172423Z
URL:https://nwf-gmuend.at/events/u9-rot-asv-schrems-c-nwf-gmuend-eibenstei
 n/
SUMMARY:U9 rot: ASV Schrems C - NWF Gmünd-Eibenstein
DESCRIPTION:
CATEGORIES:U9 rot
LOCATION:"ELK"-Arena Schrems\, Parkweg 1\, Schrems\, 3943\, Österreich
GEO:48.793331;15.066443
X-APPLE-STRUCTURED-LOCATION;VALUE=URI;X-ADDRESS=Parkweg 1\, Schrems\, 3943\
 , Österreich;X-APPLE-RADIUS=100;X-TITLE=\"ELK\"-Arena Schrems:geo:48.7933
 31,15.066443
END:VEVENT
BEGIN:VTIMEZONE
TZID:Europe/Vienna
X-LIC-LOCATION:Europe/Vienna
BEGIN:DAYLIGHT
DTSTART:20260329T030000
TZOFFSETFROM:+0100
TZOFFSETTO:+0200
TZNAME:CEST
END:DAYLIGHT
END:VTIMEZONE
END:VCALENDAR