BEGIN:VCALENDAR
VERSION:2.0
PRODID:-//wp-events-plugin.com//7.2.3.1//EN
TZID:Europe/Vienna
X-WR-TIMEZONE:Europe/Vienna
BEGIN:VEVENT
UID:40@nwf-gmuend.at
DTSTART;TZID=Europe/Vienna:20260503T133000
DTEND;TZID=Europe/Vienna:20260503T143000
DTSTAMP:20260311T173043Z
URL:https://nwf-gmuend.at/events/u9-rot-sv-waldhausen-noe-nwf-gmuend-eiben
 stein/
SUMMARY:U9 rot: SV Waldhausen NÖ - NWF Gmünd-Eibenstein
DESCRIPTION:
CATEGORIES:U9 rot
LOCATION:Sportplatz SV Waldhausen\, Waldhausen/NÖ 54\, Waldhausen/NÖ\, 39
 14\, Österreich
GEO:48.521638;15.262579
X-APPLE-STRUCTURED-LOCATION;VALUE=URI;X-ADDRESS=Waldhausen/NÖ 54\, Waldhau
 sen/NÖ\, 3914\, Österreich;X-APPLE-RADIUS=100;X-TITLE=Sportplatz SV Wald
 hausen:geo:48.521638,15.262579
END:VEVENT
BEGIN:VTIMEZONE
TZID:Europe/Vienna
X-LIC-LOCATION:Europe/Vienna
BEGIN:DAYLIGHT
DTSTART:20260329T030000
TZOFFSETFROM:+0100
TZOFFSETTO:+0200
TZNAME:CEST
END:DAYLIGHT
END:VTIMEZONE
END:VCALENDAR